BEGIN:VCALENDAR
VERSION:2.0
PRODID:-//Sportfischereiverein Hagen, Herdecke und Umgegend e.V. - ECPv6.15.20//NONSGML v1.0//EN
CALSCALE:GREGORIAN
METHOD:PUBLISH
X-WR-CALNAME:Sportfischereiverein Hagen, Herdecke und Umgegend e.V.
X-ORIGINAL-URL:https://sfv-hagen-herdecke.de
X-WR-CALDESC:Veranstaltungen für Sportfischereiverein Hagen, Herdecke und Umgegend e.V.
REFRESH-INTERVAL;VALUE=DURATION:PT1H
X-Robots-Tag:noindex
X-PUBLISHED-TTL:PT1H
BEGIN:VTIMEZONE
TZID:Europe/Berlin
BEGIN:DAYLIGHT
TZOFFSETFROM:+0100
TZOFFSETTO:+0200
TZNAME:CEST
DTSTART:20250330T010000
END:DAYLIGHT
BEGIN:STANDARD
TZOFFSETFROM:+0200
TZOFFSETTO:+0100
TZNAME:CET
DTSTART:20251026T010000
END:STANDARD
BEGIN:DAYLIGHT
TZOFFSETFROM:+0100
TZOFFSETTO:+0200
TZNAME:CEST
DTSTART:20260329T010000
END:DAYLIGHT
BEGIN:STANDARD
TZOFFSETFROM:+0200
TZOFFSETTO:+0100
TZNAME:CET
DTSTART:20261025T010000
END:STANDARD
BEGIN:DAYLIGHT
TZOFFSETFROM:+0100
TZOFFSETTO:+0200
TZNAME:CEST
DTSTART:20270328T010000
END:DAYLIGHT
BEGIN:STANDARD
TZOFFSETFROM:+0200
TZOFFSETTO:+0100
TZNAME:CET
DTSTART:20271031T010000
END:STANDARD
END:VTIMEZONE
BEGIN:VEVENT
DTSTART;TZID=Europe/Berlin:20260301T090000
DTEND;TZID=Europe/Berlin:20260301T120000
DTSTAMP:20260423T204250
CREATED:20251203T112100Z
LAST-MODIFIED:20251203T112100Z
UID:1716-1772355600-1772366400@sfv-hagen-herdecke.de
SUMMARY:Ausgabe von Lenneschein\, Volmeschein und Bootsmarke
DESCRIPTION:Wir sind von 9:00-12:00 Uhr für Euch im Vereinsheim. \nZum Erwerb der Scheine bzw. der Bootsmarke bitte die Fischereierlaubnis 2026 vorzeigen. \nAusgabe der Bootsmarke nur an Mitglieder\, welche bereits eine Kraneinweisung haben. \nMitglieder\, welche noch keine Kraneinweisung haben aber im Jahr 2026 die Boote nutzen möchten\, melden sich bitte ab März in der Geschäftsstelle für einen Termin zur Kraneinweisung. \nPreise: \nBootsmarke: 40\,- Euro \nLenneschein: 10\,- Euro \nVolmeschein 20\,- Euro
URL:https://sfv-hagen-herdecke.de/event/ausgabe-von-lenneschein-volmeschein-und-bootsmarke-3/
LOCATION:Sportfischereiverein Hagen\, Herdecke und Umgegend e.V.\, Vorhaller Weg 2\, 58313 Herdecke
ORGANIZER;CN="Sportfischereiverein Hagen%2C Herdecke und Umgegend e.V.":MAILTO:kontakt@sfv-hagen-herdecke.de
END:VEVENT
END:VCALENDAR