BEGIN:VCALENDAR
VERSION:2.0
PRODID:-//Sportfischereiverein Hagen, Herdecke und Umgegend e.V. - ECPv6.15.20//NONSGML v1.0//EN
CALSCALE:GREGORIAN
METHOD:PUBLISH
X-WR-CALNAME:Sportfischereiverein Hagen, Herdecke und Umgegend e.V.
X-ORIGINAL-URL:https://sfv-hagen-herdecke.de
X-WR-CALDESC:Veranstaltungen für Sportfischereiverein Hagen, Herdecke und Umgegend e.V.
REFRESH-INTERVAL;VALUE=DURATION:PT1H
X-Robots-Tag:noindex
X-PUBLISHED-TTL:PT1H
BEGIN:VTIMEZONE
TZID:Europe/Berlin
BEGIN:DAYLIGHT
TZOFFSETFROM:+0100
TZOFFSETTO:+0200
TZNAME:CEST
DTSTART:20250330T010000
END:DAYLIGHT
BEGIN:STANDARD
TZOFFSETFROM:+0200
TZOFFSETTO:+0100
TZNAME:CET
DTSTART:20251026T010000
END:STANDARD
BEGIN:DAYLIGHT
TZOFFSETFROM:+0100
TZOFFSETTO:+0200
TZNAME:CEST
DTSTART:20260329T010000
END:DAYLIGHT
BEGIN:STANDARD
TZOFFSETFROM:+0200
TZOFFSETTO:+0100
TZNAME:CET
DTSTART:20261025T010000
END:STANDARD
BEGIN:DAYLIGHT
TZOFFSETFROM:+0100
TZOFFSETTO:+0200
TZNAME:CEST
DTSTART:20270328T010000
END:DAYLIGHT
BEGIN:STANDARD
TZOFFSETFROM:+0200
TZOFFSETTO:+0100
TZNAME:CET
DTSTART:20271031T010000
END:STANDARD
END:VTIMEZONE
BEGIN:VEVENT
DTSTART;TZID=Europe/Berlin:20260430T180000
DTEND;TZID=Europe/Berlin:20260501T010000
DTSTAMP:20260421T114853
CREATED:20251203T114334Z
LAST-MODIFIED:20251203T114334Z
UID:1736-1777572000-1777597200@sfv-hagen-herdecke.de
SUMMARY:Rock in den Mai
DESCRIPTION:Wir wollen rockig mit Euch in den Mai feiern! \nWir öffnen das Gelände vor unserem Vereinsheim um 18:00 Uhr und ab 20:00 Uhr wird uns dann die Band Peak Level mit bestem Coverrock unterhalten. \nNatürlich ist neben kühlen Getränken auch für das leibliche Wohl gesorgt. \nDer Eintritt ist frei!
URL:https://sfv-hagen-herdecke.de/event/rock-in-den-mai/
LOCATION:Sportfischereiverein Hagen\, Herdecke und Umgegend e.V.\, Vorhaller Weg 2\, 58313 Herdecke
ORGANIZER;CN="Sportfischereiverein Hagen%2C Herdecke und Umgegend e.V.":MAILTO:kontakt@sfv-hagen-herdecke.de
END:VEVENT
END:VCALENDAR