BEGIN:VCALENDAR
VERSION:2.0
PRODID:-//Sportfischereiverein Hagen, Herdecke und Umgegend e.V. - ECPv6.15.20//NONSGML v1.0//EN
CALSCALE:GREGORIAN
METHOD:PUBLISH
X-WR-CALNAME:Sportfischereiverein Hagen, Herdecke und Umgegend e.V.
X-ORIGINAL-URL:https://sfv-hagen-herdecke.de
X-WR-CALDESC:Veranstaltungen für Sportfischereiverein Hagen, Herdecke und Umgegend e.V.
REFRESH-INTERVAL;VALUE=DURATION:PT1H
X-Robots-Tag:noindex
X-PUBLISHED-TTL:PT1H
BEGIN:VTIMEZONE
TZID:Europe/Berlin
BEGIN:DAYLIGHT
TZOFFSETFROM:+0100
TZOFFSETTO:+0200
TZNAME:CEST
DTSTART:20250330T010000
END:DAYLIGHT
BEGIN:STANDARD
TZOFFSETFROM:+0200
TZOFFSETTO:+0100
TZNAME:CET
DTSTART:20251026T010000
END:STANDARD
BEGIN:DAYLIGHT
TZOFFSETFROM:+0100
TZOFFSETTO:+0200
TZNAME:CEST
DTSTART:20260329T010000
END:DAYLIGHT
BEGIN:STANDARD
TZOFFSETFROM:+0200
TZOFFSETTO:+0100
TZNAME:CET
DTSTART:20261025T010000
END:STANDARD
BEGIN:DAYLIGHT
TZOFFSETFROM:+0100
TZOFFSETTO:+0200
TZNAME:CEST
DTSTART:20270328T010000
END:DAYLIGHT
BEGIN:STANDARD
TZOFFSETFROM:+0200
TZOFFSETTO:+0100
TZNAME:CET
DTSTART:20271031T010000
END:STANDARD
END:VTIMEZONE
BEGIN:VEVENT
DTSTART;VALUE=DATE:20260613
DTEND;VALUE=DATE:20260615
DTSTAMP:20260421T200234
CREATED:20250312T113750Z
LAST-MODIFIED:20251203T122440Z
UID:624-1781308800-1781481599@sfv-hagen-herdecke.de
SUMMARY:NRW-Angelt
DESCRIPTION:  \nAn diesem Eventwochenende können Personen ohne abgelegte Fischerprüfung unter Aufsicht und in Begleitung von Fischereischeininhaberinnen und -inhabern erste praktische Angelerfahrungen sammeln\, die Natur am Wasser mit anderen Augen erleben und etwas über die nachhaltige Nutzung von Fischbeständen lernen. \nAuch unser Verein stellt seine Gewässer\, Harkortsee\, Hengsteysee und die Neue Ruhr für dieses Event zur Verfügung. \n 
URL:https://sfv-hagen-herdecke.de/event/nrw-angelt/
LOCATION:Sportfischereiverein Hagen\, Herdecke und Umgegend e.V.\, Vorhaller Weg 2\, 58313 Herdecke
END:VEVENT
BEGIN:VEVENT
DTSTART;TZID=Europe/Berlin:20260613T080000
DTEND;TZID=Europe/Berlin:20260614T080000
DTSTAMP:20260421T200234
CREATED:20251203T115838Z
LAST-MODIFIED:20251203T115838Z
UID:1748-1781337600-1781424000@sfv-hagen-herdecke.de
SUMMARY:24 h Angeln der Jugendgruppe
DESCRIPTION:Weitere Infos bei der Jugendleitung
URL:https://sfv-hagen-herdecke.de/event/24-h-angeln-der-jugendgruppe/
LOCATION:Sportfischereiverein Hagen\, Herdecke und Umgegend e.V.\, Vorhaller Weg 2\, 58313 Herdecke
ORGANIZER;CN="Sportfischereiverein Hagen%2C Herdecke und Umgegend e.V.":MAILTO:kontakt@sfv-hagen-herdecke.de
END:VEVENT
END:VCALENDAR