BEGIN:VCALENDAR
VERSION:2.0
PRODID:-//Sportfischereiverein Hagen, Herdecke und Umgegend e.V. - ECPv6.15.20//NONSGML v1.0//EN
CALSCALE:GREGORIAN
METHOD:PUBLISH
X-ORIGINAL-URL:https://sfv-hagen-herdecke.de
X-WR-CALDESC:Veranstaltungen für Sportfischereiverein Hagen, Herdecke und Umgegend e.V.
REFRESH-INTERVAL;VALUE=DURATION:PT1H
X-Robots-Tag:noindex
X-PUBLISHED-TTL:PT1H
BEGIN:VTIMEZONE
TZID:Europe/Berlin
BEGIN:DAYLIGHT
TZOFFSETFROM:+0100
TZOFFSETTO:+0200
TZNAME:CEST
DTSTART:20250330T010000
END:DAYLIGHT
BEGIN:STANDARD
TZOFFSETFROM:+0200
TZOFFSETTO:+0100
TZNAME:CET
DTSTART:20251026T010000
END:STANDARD
BEGIN:DAYLIGHT
TZOFFSETFROM:+0100
TZOFFSETTO:+0200
TZNAME:CEST
DTSTART:20260329T010000
END:DAYLIGHT
BEGIN:STANDARD
TZOFFSETFROM:+0200
TZOFFSETTO:+0100
TZNAME:CET
DTSTART:20261025T010000
END:STANDARD
BEGIN:DAYLIGHT
TZOFFSETFROM:+0100
TZOFFSETTO:+0200
TZNAME:CEST
DTSTART:20270328T010000
END:DAYLIGHT
BEGIN:STANDARD
TZOFFSETFROM:+0200
TZOFFSETTO:+0100
TZNAME:CET
DTSTART:20271031T010000
END:STANDARD
END:VTIMEZONE
BEGIN:VEVENT
DTSTART;VALUE=DATE:20260626
DTEND;VALUE=DATE:20260628
DTSTAMP:20260421T225252
CREATED:20251203T120125Z
LAST-MODIFIED:20251203T120125Z
UID:1750-1782432000-1782604799@sfv-hagen-herdecke.de
SUMMARY:V. Rockstarter Festival
DESCRIPTION:Die Rockstarter übernehmen wieder den Vorhaller Weg! \nAm 26. und 27. Juni ist wieder Festival vor unserem Vereinsheim angesagt. \nAlle Infos und www. rockstarter.de \n  \nRock on
URL:https://sfv-hagen-herdecke.de/event/v-rockstarter-festival/
LOCATION:Sportfischereiverein Hagen\, Herdecke und Umgegend e.V.\, Vorhaller Weg 2\, 58313 Herdecke
ORGANIZER;CN="RockStarter Herdecke 2020 e. V.":MAILTO:info@rockstarter.de
END:VEVENT
END:VCALENDAR