BEGIN:VCALENDAR
VERSION:2.0
PRODID:-//Sportfischereiverein Hagen, Herdecke und Umgegend e.V. - ECPv6.15.20//NONSGML v1.0//EN
CALSCALE:GREGORIAN
METHOD:PUBLISH
X-ORIGINAL-URL:https://sfv-hagen-herdecke.de
X-WR-CALDESC:Veranstaltungen für Sportfischereiverein Hagen, Herdecke und Umgegend e.V.
REFRESH-INTERVAL;VALUE=DURATION:PT1H
X-Robots-Tag:noindex
X-PUBLISHED-TTL:PT1H
BEGIN:VTIMEZONE
TZID:Europe/Berlin
BEGIN:DAYLIGHT
TZOFFSETFROM:+0100
TZOFFSETTO:+0200
TZNAME:CEST
DTSTART:20250330T010000
END:DAYLIGHT
BEGIN:STANDARD
TZOFFSETFROM:+0200
TZOFFSETTO:+0100
TZNAME:CET
DTSTART:20251026T010000
END:STANDARD
BEGIN:DAYLIGHT
TZOFFSETFROM:+0100
TZOFFSETTO:+0200
TZNAME:CEST
DTSTART:20260329T010000
END:DAYLIGHT
BEGIN:STANDARD
TZOFFSETFROM:+0200
TZOFFSETTO:+0100
TZNAME:CET
DTSTART:20261025T010000
END:STANDARD
BEGIN:DAYLIGHT
TZOFFSETFROM:+0100
TZOFFSETTO:+0200
TZNAME:CEST
DTSTART:20270328T010000
END:DAYLIGHT
BEGIN:STANDARD
TZOFFSETFROM:+0200
TZOFFSETTO:+0100
TZNAME:CET
DTSTART:20271031T010000
END:STANDARD
END:VTIMEZONE
BEGIN:VEVENT
DTSTART;TZID=Europe/Berlin:20260703T150000
DTEND;TZID=Europe/Berlin:20260705T100000
DTSTAMP:20260422T040928
CREATED:20251203T115245Z
LAST-MODIFIED:20251203T115245Z
UID:1742-1783090800-1783245600@sfv-hagen-herdecke.de
SUMMARY:Zeltlager der Jugendgruppe
DESCRIPTION:Vom 3. bis 5. Juli findet das Zeltlager unserer Wasserwölfe am Harkortsee statt. \nWeitere Infos bei der Jugendleitung.
URL:https://sfv-hagen-herdecke.de/event/zeltlager-der-jugendgruppe-2/
ORGANIZER;CN="Sportfischereiverein Hagen%2C Herdecke und Umgegend e.V.":MAILTO:kontakt@sfv-hagen-herdecke.de
END:VEVENT
BEGIN:VEVENT
DTSTART;TZID=Europe/Berlin:20260704T160000
DTEND;TZID=Europe/Berlin:20260704T220000
DTSTAMP:20260422T040928
CREATED:20251203T113354Z
LAST-MODIFIED:20251203T113354Z
UID:1730-1783180800-1783202400@sfv-hagen-herdecke.de
SUMMARY:Koppelangeln der Senioren
DESCRIPTION:Koppelangeln der Senioren! \nWir treffen uns um 16:00 Uhr am Vereinsheim\, danach geht es gemeinsam ans Wasser. \nAngelzeit 4 Stunden. \n 
URL:https://sfv-hagen-herdecke.de/event/koppelangeln-der-senioren-2/
LOCATION:Sportfischereiverein Hagen\, Herdecke und Umgegend e.V.\, Vorhaller Weg 2\, 58313 Herdecke
ORGANIZER;CN="Sportfischereiverein Hagen%2C Herdecke und Umgegend e.V.":MAILTO:kontakt@sfv-hagen-herdecke.de
END:VEVENT
END:VCALENDAR