BEGIN:VCALENDAR
VERSION:2.0
PRODID:-//Sportfischereiverein Hagen, Herdecke und Umgegend e.V. - ECPv6.15.20//NONSGML v1.0//EN
CALSCALE:GREGORIAN
METHOD:PUBLISH
X-WR-CALNAME:Sportfischereiverein Hagen, Herdecke und Umgegend e.V.
X-ORIGINAL-URL:https://sfv-hagen-herdecke.de
X-WR-CALDESC:Veranstaltungen für Sportfischereiverein Hagen, Herdecke und Umgegend e.V.
REFRESH-INTERVAL;VALUE=DURATION:PT1H
X-Robots-Tag:noindex
X-PUBLISHED-TTL:PT1H
BEGIN:VTIMEZONE
TZID:Europe/Berlin
BEGIN:DAYLIGHT
TZOFFSETFROM:+0100
TZOFFSETTO:+0200
TZNAME:CEST
DTSTART:20250330T010000
END:DAYLIGHT
BEGIN:STANDARD
TZOFFSETFROM:+0200
TZOFFSETTO:+0100
TZNAME:CET
DTSTART:20251026T010000
END:STANDARD
BEGIN:DAYLIGHT
TZOFFSETFROM:+0100
TZOFFSETTO:+0200
TZNAME:CEST
DTSTART:20260329T010000
END:DAYLIGHT
BEGIN:STANDARD
TZOFFSETFROM:+0200
TZOFFSETTO:+0100
TZNAME:CET
DTSTART:20261025T010000
END:STANDARD
BEGIN:DAYLIGHT
TZOFFSETFROM:+0100
TZOFFSETTO:+0200
TZNAME:CEST
DTSTART:20270328T010000
END:DAYLIGHT
BEGIN:STANDARD
TZOFFSETFROM:+0200
TZOFFSETTO:+0100
TZNAME:CET
DTSTART:20271031T010000
END:STANDARD
END:VTIMEZONE
BEGIN:VEVENT
DTSTART;TZID=Europe/Berlin:20260816T060000
DTEND;TZID=Europe/Berlin:20260816T120000
DTSTAMP:20260422T110334
CREATED:20251203T113158Z
LAST-MODIFIED:20251203T113158Z
UID:1726-1786860000-1786881600@sfv-hagen-herdecke.de
SUMMARY:2. Gemeinschaftsfischen der Senioren
DESCRIPTION:2. Gemeinschaftsfischen der Senioren! \nWir treffen uns um 6:00 Uhr am Vereinsheim\, danach geht es gemeinsam ans Wasser. \nAngelzeit 4 Stunden. \n 
URL:https://sfv-hagen-herdecke.de/event/2-gemeinschaftsfischen-der-senioren/
LOCATION:Sportfischereiverein Hagen\, Herdecke und Umgegend e.V.\, Vorhaller Weg 2\, 58313 Herdecke
ORGANIZER;CN="Sportfischereiverein Hagen%2C Herdecke und Umgegend e.V.":MAILTO:kontakt@sfv-hagen-herdecke.de
END:VEVENT
END:VCALENDAR