BEGIN:VCALENDAR
VERSION:2.0
PRODID:-//Sportfischereiverein Hagen, Herdecke und Umgegend e.V. - ECPv6.15.20//NONSGML v1.0//EN
CALSCALE:GREGORIAN
METHOD:PUBLISH
X-ORIGINAL-URL:https://sfv-hagen-herdecke.de
X-WR-CALDESC:Veranstaltungen für Sportfischereiverein Hagen, Herdecke und Umgegend e.V.
REFRESH-INTERVAL;VALUE=DURATION:PT1H
X-Robots-Tag:noindex
X-PUBLISHED-TTL:PT1H
BEGIN:VTIMEZONE
TZID:Europe/Berlin
BEGIN:DAYLIGHT
TZOFFSETFROM:+0100
TZOFFSETTO:+0200
TZNAME:CEST
DTSTART:20250330T010000
END:DAYLIGHT
BEGIN:STANDARD
TZOFFSETFROM:+0200
TZOFFSETTO:+0100
TZNAME:CET
DTSTART:20251026T010000
END:STANDARD
BEGIN:DAYLIGHT
TZOFFSETFROM:+0100
TZOFFSETTO:+0200
TZNAME:CEST
DTSTART:20260329T010000
END:DAYLIGHT
BEGIN:STANDARD
TZOFFSETFROM:+0200
TZOFFSETTO:+0100
TZNAME:CET
DTSTART:20261025T010000
END:STANDARD
BEGIN:DAYLIGHT
TZOFFSETFROM:+0100
TZOFFSETTO:+0200
TZNAME:CEST
DTSTART:20270328T010000
END:DAYLIGHT
BEGIN:STANDARD
TZOFFSETFROM:+0200
TZOFFSETTO:+0100
TZNAME:CET
DTSTART:20271031T010000
END:STANDARD
END:VTIMEZONE
BEGIN:VEVENT
DTSTART;VALUE=DATE:20261108
DTEND;VALUE=DATE:20261109
DTSTAMP:20260423T011924
CREATED:20251203T120309Z
LAST-MODIFIED:20251203T120309Z
UID:1752-1794096000-1794182399@sfv-hagen-herdecke.de
SUMMARY:Schulung für amtlich verpflichtete Fischereiaufseher
DESCRIPTION:Weitere Infos folgen
URL:https://sfv-hagen-herdecke.de/event/schulung-fuer-amtlich-verpflichtete-fischereiaufseher/
LOCATION:Sportfischereiverein Hagen\, Herdecke und Umgegend e.V.\, Vorhaller Weg 2\, 58313 Herdecke
END:VEVENT
END:VCALENDAR